Workbook

Sheet Attendance
A1: Name | B1: Wk1 Mon | C1: Wk1 Tue | D1: Wk1 Wed | E1: Wk1 Thu | F1: Wk1 Fri | G1: Wk2 Mon | H1: Wk2 Tue | I1: Wk2 Wed | J1: Wk2 Thu | K1: Wk2 Fri | L1: Wk3 Mon | M1: Wk3 Tue | N1: Wk3 Wed | O1: Wk3 Thu | P1: Wk3 Fri | Q1: Wk4 Mon | R1: Wk4 Tue | S1: Wk4 Wed | T1: Wk4 Thu | U1: Wk4 Fri
A2: Ana Ruiz | B2: P | C2: P | D2: P | E2: P | F2: P | G2: P | H2: P | I2: P | J2: P | K2: P
A3: Ben Ortiz | B3: P | C3: P | D3: A | E3: P | F3: P | G3: P | H3: L | I3: P | J3: P | K3: P
A4: Cara Diaz | B4: P | C4: L | D4: P | E4: P | F4: P | G4: P | H4: P | I4: P | J4: A | K4: P
A5: Dan Fisher | B5: A | C5: A | D5: P | E5: L | F5: P | G5: P | H5: A | I5: P | J5: P | K5: P
A6: Eve Marsh | B6: P | C6: P | D6: P | E6: P | F6: L | G6: P | H6: P | I6: P | J6: P | K6: P
A7: Femi Okoro | B7: P | C7: P | D7: P | E7: P | F7: P | G7: P | H7: P | I7: P | J7: P | K7: P
A8: Gia Russo | B8: P | C8: A | D8: P | E8: P | F8: A | G8: P | H8: P | I8: L | J8: P | K8: P
A9: Hugo Lane | B9: P | C9: P | D9: L | E9: P | F9: P | G9: P | H9: P | I9: P | J9: P | K9: P

Sheet Summary
A1: Name | B1: Present | C1: Absent | D1: Late | E1: Attendance rate
A2: =IF(Attendance!A2="", "", Attendance!A2) | B2: =IF($A2="", "", COUNTIF(Attendance!$B2:$U2, "P")) | C2: =IF($A2="", "", COUNTIF(Attendance!$B2:$U2, "A")) | D2: =IF($A2="", "", COUNTIF(Attendance!$B2:$U2, "L")) | E2: =IF(SUM(B2:D2)=0, "", B2/SUM(B2:D2))
A3: =IF(Attendance!A3="", "", Attendance!A3) | B3: =IF($A3="", "", COUNTIF(Attendance!$B3:$U3, "P")) | C3: =IF($A3="", "", COUNTIF(Attendance!$B3:$U3, "A")) | D3: =IF($A3="", "", COUNTIF(Attendance!$B3:$U3, "L")) | E3: =IF(SUM(B3:D3)=0, "", B3/SUM(B3:D3))
A4: =IF(Attendance!A4="", "", Attendance!A4) | B4: =IF($A4="", "", COUNTIF(Attendance!$B4:$U4, "P")) | C4: =IF($A4="", "", COUNTIF(Attendance!$B4:$U4, "A")) | D4: =IF($A4="", "", COUNTIF(Attendance!$B4:$U4, "L")) | E4: =IF(SUM(B4:D4)=0, "", B4/SUM(B4:D4))
A5: =IF(Attendance!A5="", "", Attendance!A5) | B5: =IF($A5="", "", COUNTIF(Attendance!$B5:$U5, "P")) | C5: =IF($A5="", "", COUNTIF(Attendance!$B5:$U5, "A")) | D5: =IF($A5="", "", COUNTIF(Attendance!$B5:$U5, "L")) | E5: =IF(SUM(B5:D5)=0, "", B5/SUM(B5:D5))
A6: =IF(Attendance!A6="", "", Attendance!A6) | B6: =IF($A6="", "", COUNTIF(Attendance!$B6:$U6, "P")) | C6: =IF($A6="", "", COUNTIF(Attendance!$B6:$U6, "A")) | D6: =IF($A6="", "", COUNTIF(Attendance!$B6:$U6, "L")) | E6: =IF(SUM(B6:D6)=0, "", B6/SUM(B6:D6))
A7: =IF(Attendance!A7="", "", Attendance!A7) | B7: =IF($A7="", "", COUNTIF(Attendance!$B7:$U7, "P")) | C7: =IF($A7="", "", COUNTIF(Attendance!$B7:$U7, "A")) | D7: =IF($A7="", "", COUNTIF(Attendance!$B7:$U7, "L")) | E7: =IF(SUM(B7:D7)=0, "", B7/SUM(B7:D7))
A8: =IF(Attendance!A8="", "", Attendance!A8) | B8: =IF($A8="", "", COUNTIF(Attendance!$B8:$U8, "P")) | C8: =IF($A8="", "", COUNTIF(Attendance!$B8:$U8, "A")) | D8: =IF($A8="", "", COUNTIF(Attendance!$B8:$U8, "L")) | E8: =IF(SUM(B8:D8)=0, "", B8/SUM(B8:D8))
A9: =IF(Attendance!A9="", "", Attendance!A9) | B9: =IF($A9="", "", COUNTIF(Attendance!$B9:$U9, "P")) | C9: =IF($A9="", "", COUNTIF(Attendance!$B9:$U9, "A")) | D9: =IF($A9="", "", COUNTIF(Attendance!$B9:$U9, "L")) | E9: =IF(SUM(B9:D9)=0, "", B9/SUM(B9:D9))
A10: =IF(Attendance!A10="", "", Attendance!A10) | B10: =IF($A10="", "", COUNTIF(Attendance!$B10:$U10, "P")) | C10: =IF($A10="", "", COUNTIF(Attendance!$B10:$U10, "A")) | D10: =IF($A10="", "", COUNTIF(Attendance!$B10:$U10, "L")) | E10: =IF(SUM(B10:D10)=0, "", B10/SUM(B10:D10))
A11: =IF(Attendance!A11="", "", Attendance!A11) | B11: =IF($A11="", "", COUNTIF(Attendance!$B11:$U11, "P")) | C11: =IF($A11="", "", COUNTIF(Attendance!$B11:$U11, "A")) | D11: =IF($A11="", "", COUNTIF(Attendance!$B11:$U11, "L")) | E11: =IF(SUM(B11:D11)=0, "", B11/SUM(B11:D11))
A12: =IF(Attendance!A12="", "", Attendance!A12) | B12: =IF($A12="", "", COUNTIF(Attendance!$B12:$U12, "P")) | C12: =IF($A12="", "", COUNTIF(Attendance!$B12:$U12, "A")) | D12: =IF($A12="", "", COUNTIF(Attendance!$B12:$U12, "L")) | E12: =IF(SUM(B12:D12)=0, "", B12/SUM(B12:D12))
A13: =IF(Attendance!A13="", "", Attendance!A13) | B13: =IF($A13="", "", COUNTIF(Attendance!$B13:$U13, "P")) | C13: =IF($A13="", "", COUNTIF(Attendance!$B13:$U13, "A")) | D13: =IF($A13="", "", COUNTIF(Attendance!$B13:$U13, "L")) | E13: =IF(SUM(B13:D13)=0, "", B13/SUM(B13:D13))
... A31: =IF(Attendance!A31="", "", Attendance!A31) | B31: =IF($A31="", "", COUNTIF(Attendance!$B31:$U31, "P")) | C31: =IF($A31="", "", COUNTIF(Attendance!$B31:$U31, "A")) | D31: =IF($A31="", "", COUNTIF(Attendance!$B31:$U31, "L")) | E31: =IF(SUM(B31:D31)=0, "", B31/SUM(B31:D31))

Sheet Codes
A1: Code | B1: Meaning
A2: P | B2: Present
A3: A | B3: Absent
A4: L | B4: Late
